BEGIN:VCALENDAR
VERSION:2.0
PRODID:Events Booking
BEGIN:VEVENT
UID:69ed3a5b461bc
SUMMARY:ILEAP Friday Morning Dance: May Half Term Holiday 2024: 16 yrs and 
 over  
DESCRIPTION:you are booking for the May Half Term Holiday 2025
 End the we
 ek in style with this funky Dance session with Nicola
 We start the day w
 ith a relaxed chat\, moving in gently to a relaxed dance session with Nico
 la slowly building the tempo to all your favourite tunes!&nbsp\;
 After t
 he session we will head off in a taxi to Ten Pin bowling
 (Book seperatel
 y)&nbsp\;
 We are expecting a full house so you'll need to book early&nbs
 p\;
 Session runs every Friday through out the year
 Remember you can do
 nate and or fundraise for the ILEAP Charity at www.justgiving.com/ileap&nb
 sp\;
 You can purchase our fantastic Marketability products from our webs
 ite www.ileap.co.uk &nbsp\;
 &nbsp\;
LOCATION:Abbey End Car Park\, Abbey End\, Kenilworth CV8 1JP
DTSTART:20250530T090000Z
DTEND:20250530T110000Z
DTSTAMP:20211028T085807Z
ORGANIZER;CN=ILEAP Charity:MAILTO:sparkle@ileap.co.uk
GEO:52.344216;-1.578651
X-APPLE-STRUCTURED-LOCATION;VALUE=URI;X-ADDRESS=Abbey End Car Park\, Abbey 
 End\, Kenilworth CV8 1JP;X-APPLE-RADIUS=72;X-TITLE=The Kenilworth Centre:5
 2.344216;-1.578651
END:VEVENT
END:VCALENDAR