BEGIN:VCALENDAR
VERSION:2.0
PRODID:Events Booking
BEGIN:VEVENT
UID:69ec9d5f3b520
SUMMARY:ILEAP Friday Morning Dance: Oct Half Term Holiday 2025: 16 yrs and 
 over 
DESCRIPTION:you are booking for the October Half Term Holiday 2025
 End th
 e week in style with this funky Dance session with Nicola
 We start the d
 ay with a relaxed chat\, moving in gently to a relaxed dance session with 
 Nicola slowly building the tempo to all your favourite tunes!&nbsp\;
 Aft
 er the session we will head off in a taxi to Ten Pin bowling
 (Book seper
 ately)&nbsp\;
 We are expecting a full house so you'll need to book early
 &nbsp\;
 Session runs every Friday through out the year
 Remember you ca
 n donate and or fundraise for the ILEAP Charity at www.justgiving.com/ilea
 p&nbsp\;
 You can purchase our fantastic Marketability products from our 
 website www.ileap.co.uk &nbsp\;
 &nbsp\;
LOCATION:Abbey End Car Park\, Abbey End\, Kenilworth CV8 1JP
DTSTART:20251031T100000Z
DTEND:20251031T120000Z
DTSTAMP:20211028T085807Z
ORGANIZER;CN=ILEAP Charity:MAILTO:sparkle@ileap.co.uk
GEO:52.344216;-1.578651
X-APPLE-STRUCTURED-LOCATION;VALUE=URI;X-ADDRESS=Abbey End Car Park\, Abbey 
 End\, Kenilworth CV8 1JP;X-APPLE-RADIUS=72;X-TITLE=The Kenilworth Centre:5
 2.344216;-1.578651
END:VEVENT
END:VCALENDAR