BEGIN:VCALENDAR
VERSION:2.0
PRODID:Events Booking
BEGIN:VEVENT
UID:69e9d9806810f
SUMMARY:ILEAP Future Stars Drama: Autumn Term 2025: 14 years and over  
DESCRIPTION:you are booking for the Autumn Term 2025 x £25 per session
 J
 oin your pals for a fantastic drama session that will showcase your person
 ality\, build your confidence\, raise your self esteem and help with those
  all important communication skills.
LOCATION:Old Town\, Stratford-upon-Avon\, CV37 6BG
DTSTART:20251218T180000Z
DTEND:20251218T200000Z
DTSTAMP:20211028T085807Z
ORGANIZER;CN=ILEAP Charity:MAILTO:sparkle@ileap.co.uk
GEO:52.186755;-1.708464
X-APPLE-STRUCTURED-LOCATION;VALUE=URI;X-ADDRESS=Old Town\, Stratford-upon-A
 von\, CV37 6BG;X-APPLE-RADIUS=72;X-TITLE=Stratford Methodist Church:52.186
 755;-1.708464
END:VEVENT
END:VCALENDAR