BEGIN:VCALENDAR
VERSION:2.0
PRODID:Events Booking
BEGIN:VEVENT
UID:69e7358c2af12
SUMMARY:ILEAP Healthy Living Saturday Club<br>8+ yrs
DESCRIPTION:Includes Art\, Drink\, Snack\, Dance
LOCATION:Alcester Rd\, Stratford-upon-Avon\, CV37 9DH\, UK
DTSTART:20180811T110000Z
DTEND:20180811T140000Z
DTSTAMP:20260421T093004Z
ORGANIZER;CN=ILEAP Charity:MAILTO:sparkle@ileap.co.uk
GEO:52.193676;-1.720444
X-APPLE-STRUCTURED-LOCATION;VALUE=URI;X-ADDRESS=Alcester Rd\, Stratford-upo
 n-Avon\, CV37 9DH\, UK;X-APPLE-RADIUS=72;X-TITLE=Stratford–on-Avon High 
 School:52.193676;-1.720444
END:VEVENT
END:VCALENDAR