BEGIN:VCALENDAR
VERSION:2.0
PRODID:Events Booking
BEGIN:VEVENT
UID:69ec9e781e13e
SUMMARY:ILEAP Healthy Living Saturday Club: Autumn Term 2025: 16 yrs and ov
 er 
DESCRIPTION:Join your ILEAP friends at our Healthy Living Saturday Clubfor 
 ILEAP Members 16 years and over
 This session runs every other week at ou
 r fantastic venue.
 Bring your packed lunch and catch up with friends.
 
 Take part in an Art activity or play games with your mates.
 Join in with
  our regular Dance session and pop up badminton and get some exercise.
 Y
 ou are booking for the Autumn Term
LOCATION:Shipston Rd\, Alderminster\, Stratford-upon-Avon CV37 8LU
DTSTART:20251101T120000Z
DTEND:20251101T150000Z
DTSTAMP:20211027T094818Z
ORGANIZER;CN=ILEAP Charity:MAILTO:sparkle@ileap.co.uk
GEO:52.180337;-1.700033
X-APPLE-STRUCTURED-LOCATION;VALUE=URI;X-ADDRESS=Shipston Rd\, Alderminster\
 , Stratford-upon-Avon CV37 8LU;X-APPLE-RADIUS=72;X-TITLE=The Rosebird Comm
 unity Hall:52.180337;-1.700033
END:VEVENT
END:VCALENDAR