BEGIN:VCALENDAR
VERSION:2.0
PRODID:Events Booking
BEGIN:VEVENT
UID:69ed2a71e57ba
SUMMARY:ILEAP Healthy Living Saturday Club: Summer Term 2025: 16 years and 
 over 
DESCRIPTION:Join your ILEAP friends at our Healthy Living Saturday Club for
  ILEAP Members 16 years and over
 This session runs every other week at o
 ur fantastic venue.
 Bring your packed lunch and catch up with friends.

  Take part in an Art activity or play games with your mates.
 Join in wit
 h our regular Dance session and pop up badminton and get some exercise.
 
 You are booking for the Summer term
LOCATION:Shipston Rd\, Alderminster\, Stratford-upon-Avon CV37 8LU
DTSTART:20250614T110000Z
DTEND:20250614T140000Z
DTSTAMP:20211027T094818Z
ORGANIZER;CN=ILEAP Charity:MAILTO:sparkle@ileap.co.uk
GEO:52.180337;-1.700033
X-APPLE-STRUCTURED-LOCATION;VALUE=URI;X-ADDRESS=Shipston Rd\, Alderminster\
 , Stratford-upon-Avon CV37 8LU;X-APPLE-RADIUS=72;X-TITLE=The Rosebird Comm
 unity Hall:52.180337;-1.700033
END:VEVENT
END:VCALENDAR