BEGIN:VCALENDAR
VERSION:2.0
PRODID:Events Booking
BEGIN:VEVENT
UID:69e9922a80c1b
SUMMARY:ILEAP into Canoe and Kayaking for 12 years and over
DESCRIPTION:
LOCATION:Cecil Ct\, Mill Rd\, Leamington Spa CV31 1BH\, UK
DTSTART:20190829T120000Z
DTEND:20190829T140000Z
DTSTAMP:20260423T042946Z
ORGANIZER;CN=ILEAP Charity:MAILTO:sparkle@ileap.co.uk
GEO:52.287629;-1.529262
X-APPLE-STRUCTURED-LOCATION;VALUE=URI;X-ADDRESS=Cecil Ct\, Mill Rd\, Leamin
 gton Spa CV31 1BH\, UK;X-APPLE-RADIUS=72;X-TITLE=Leam Boat Centre :52.2876
 29;-1.529262
END:VEVENT
END:VCALENDAR