BEGIN:VCALENDAR
VERSION:2.0
PRODID:Events Booking
BEGIN:VEVENT
UID:69e97f2f7fc0e
SUMMARY:ILEAP into Canoeing<br>8+ yrs 
DESCRIPTION:Picnic &amp\; Games in the park followed by Fun on the Water:

  Canoe\, Kayak and Boating Fun!
 Bring a picnic / packed lunch
 
 Picni
 c 12.15 – 1.30pm
 Canoeing&nbsp\;(1.30pm -2.30pm)
 Drink &nbsp\;(2.30p
 m -3.00pm)
 
 Leam Boat Centre
 
 You will learn the basics in the lak
 e\, and then head out onto the river for a short trip and lots of games
 
 
 Includes boat hire &amp\; Instructor
LOCATION:Cecil Ct\, Mill Rd\, Leamington Spa CV31 1BH\, UK
DTSTART:20190725T120000Z
DTEND:20190725T140000Z
DTSTAMP:20260423T030847Z
ORGANIZER;CN=ILEAP Charity:MAILTO:sparkle@ileap.co.uk
GEO:52.287629;-1.529262
X-APPLE-STRUCTURED-LOCATION;VALUE=URI;X-ADDRESS=Cecil Ct\, Mill Rd\, Leamin
 gton Spa CV31 1BH\, UK;X-APPLE-RADIUS=72;X-TITLE=Leam Boat Centre :52.2876
 29;-1.529262
END:VEVENT
END:VCALENDAR