BEGIN:VCALENDAR
VERSION:2.0
PRODID:Events Booking
BEGIN:VEVENT
UID:69e933d1bec6f
SUMMARY:ILEAP into Kata Kanus\, Canoeing<br>8+ yrs 
DESCRIPTION:Meet at the Cinema at 12.40pm or at Leam Boat Centre at 12.55pm
 
 Canoe\, Kayak and Boating Fun
LOCATION:Cecil Ct\, Mill Rd\, Leamington Spa CV31 1BH\, UK
DTSTART:20190416T114000Z
DTEND:20190416T140000Z
DTSTAMP:20260422T214713Z
ORGANIZER;CN=ILEAP Charity:MAILTO:sparkle@ileap.co.uk
GEO:52.287629;-1.529262
X-APPLE-STRUCTURED-LOCATION;VALUE=URI;X-ADDRESS=Cecil Ct\, Mill Rd\, Leamin
 gton Spa CV31 1BH\, UK;X-APPLE-RADIUS=72;X-TITLE=Leam Boat Centre :52.2876
 29;-1.529262
END:VEVENT
END:VCALENDAR