BEGIN:VCALENDAR
VERSION:2.0
PRODID:Events Booking
BEGIN:VEVENT
UID:69ed3b66a3efe
SUMMARY:ILEAP into May Half Term Holiday Canoe and Kayaking Crew for 12 yrs
  and above
DESCRIPTION:Make a splash this May Half Term at this popular ILEAP session
 
 Enjoy your homemade picnic followed by Fun on the Water
 Canoe\, Kayak 
 and Boating Fun!
 Bring a picnic / packed lunch
 
 Picnic &nbsp\;(1.00p
 m -1.30pm)
 Canoeing&nbsp\;(1.30pm -3.00pm)
 
 Leam Boat Centre
 
 Yo
 u will learn the basics in the lake\, and then head out onto the river for
  a short trip and lots of games
 
 Includes boat hire &amp\; Instructor.
 
 Why not make a day of it and join us for our morning trip to the Vue Ci
 nema (book separately) support provided over lunch.
LOCATION:Cecil Ct\, Mill Rd\, Leamington Spa CV31 1BH\, UK
DTSTART:20250528T120000Z
DTEND:20250528T140000Z
DTSTAMP:20260425T230838Z
ORGANIZER;CN=ILEAP Charity:MAILTO:sparkle@ileap.co.uk
GEO:52.287629;-1.529262
X-APPLE-STRUCTURED-LOCATION;VALUE=URI;X-ADDRESS=Cecil Ct\, Mill Rd\, Leamin
 gton Spa CV31 1BH\, UK;X-APPLE-RADIUS=72;X-TITLE=Leam Boat Centre :52.2876
 29;-1.529262
END:VEVENT
END:VCALENDAR