BEGIN:VCALENDAR
VERSION:2.0
PRODID:Events Booking
BEGIN:VEVENT
UID:69ec9d7e3899f
SUMMARY:ILEAP into Oct Half Term Holiday Virtual Games VIP room for 12 yrs 
 and above 
DESCRIPTION:New session alert!
 Join Vanessa and Co at new venue Gamefinit
 y for a virtual sports simulator session. &nbsp\;Members will have exclusi
 ve access to the VIP room at Gamefinity.
 The VIP room has a Wild West th
 emed shooting gallery. &nbsp\;This is a virtual game where folks can try t
 heir hand at shooting hats\, bottles and targets. &nbsp\;The game has a hu
 ge screen and is vey immersive. &nbsp\;There is no loud 'gunshot' sounds a
 nd the games have a musical overlay.
 The VIP room also has a pool table\
 , a chill out area with sofa and table seating and we have exclusive use o
 f a private karaoke room.
 The venue also has air hockey\, foosball table
  and pool tables (additional charge) and a selection of board games to cho
 ose from.
 Bring extra £ for snacks and drinks.
 Why not book for the m
 orning at Vue Cinema with us\, bring a packed lunch picnic and spend the w
 hole day with us\, we will support you over lunch!
 Venue Address is loca
 ted on a pedestrian area. &nbsp\;Disabled street parking is available on R
 egent Street.
 Gamefinity Ltd\, 2A Livery Street\, Leamington Spa\, CV32 
 4NP
LOCATION:2A Livery Street\, Leamington Spa\, CV32 4NP
DTSTART:20251029T133000Z
DTEND:20251029T150000Z
DTSTAMP:20260425T115454Z
ORGANIZER;CN=ILEAP Charity:MAILTO:sparkle@ileap.co.uk
GEO:52.290465;-1.533817
X-APPLE-STRUCTURED-LOCATION;VALUE=URI;X-ADDRESS=2A Livery Street\, Leamingt
 on Spa\, CV32 4NP;X-APPLE-RADIUS=72;X-TITLE=Gamefinity Ltd:52.290465;-1.53
 3817
END:VEVENT
END:VCALENDAR