BEGIN:VCALENDAR
VERSION:2.0
PRODID:Events Booking
BEGIN:VEVENT
UID:69e9851c6b286
SUMMARY:ILEAP Kenilworth Subway Take Out & Karaoke Party Mondays<br>Summer 
 Term<br>12 years and over
DESCRIPTION:Enjoy an optional Subway meal and then sing your heart out at t
 he ILEAP Karaoke session
 (Bring £ for your meal)
LOCATION:Abbey End Car Park\, Abbey End\, Kenilworth CV8 1JP
DTSTART:20190805T173000Z
DTEND:20190805T193000Z
DTSTAMP:20260423T033404Z
ORGANIZER;CN=ILEAP Charity:MAILTO:sparkle@ileap.co.uk
GEO:52.344216;-1.578651
X-APPLE-STRUCTURED-LOCATION;VALUE=URI;X-ADDRESS=Abbey End Car Park\, Abbey 
 End\, Kenilworth CV8 1JP;X-APPLE-RADIUS=72;X-TITLE=The Kenilworth Centre:5
 2.344216;-1.578651
END:VEVENT
END:VCALENDAR