BEGIN:VCALENDAR
VERSION:2.0
PRODID:Events Booking
BEGIN:VEVENT
UID:69ecafb1e385d
SUMMARY:ILEAP Lads Club\, FITNESS SUITE\, QUIZ\, GYM SESSION\, 12 years and
  over
DESCRIPTION:
LOCATION:Alcester Rd\, Stratford-upon-Avon\, CV37 9DH\, UK
DTSTART:20200314T123000Z
DTEND:20200314T150000Z
DTSTAMP:20260425T131233Z
ORGANIZER;CN=ILEAP Charity:MAILTO:sparkle@ileap.co.uk
GEO:52.193676;-1.720444
X-APPLE-STRUCTURED-LOCATION;VALUE=URI;X-ADDRESS=Alcester Rd\, Stratford-upo
 n-Avon\, CV37 9DH\, UK;X-APPLE-RADIUS=72;X-TITLE=Stratford–on-Avon High 
 School:52.193676;-1.720444
END:VEVENT
END:VCALENDAR