BEGIN:VCALENDAR
VERSION:2.0
PRODID:Events Booking
BEGIN:VEVENT
UID:69ec9d7de9e11
SUMMARY:ILEAP Lets Dance Club Night 2025\, 16 years & over
DESCRIPTION:Your going to love the ILEAP Lets Dance Club Night !
 This is 
 a Halloween special so fancy dress is encouraged. Its also a Happy Birthda
 y for ILEAP member Olivia Maloney \, so lets make it a fantastic night for
  her!
 Join us at the amazing Seymour Suit in Stratford Crowne Plaza and 
 let your hair down with your ILEAP friends old and new.&nbsp\;
 The dance
 floor will be rockin and the cash bar will open for business (drink respon
 sibly)
 This night is for ILEAP Members old and new aged 16 years and ove
 r\, so tell all your friends and get them to join and book.
 Its for ILEA
 P Members only so all places must be pre-booked via the ILEAP website\, if
  you turn up without booking then for safety reasons\, you may be turned a
 way and will have to pay an extra £5 admin fee if you stay.
 Our residen
 t DJ Ben K from JK Entertainment Ltd will be banging out the tunes to make
  the evening a night to remember.&nbsp\;
 The venue is accessible for whe
 elchairs and there are disabled toilets at the venue and a changing places
  toilet at the next door at the leisure centre
 Carers will need to stay 
 if you are likey to wander off\, although we will try and monitor the room
  door as usual.
 Wheelchair access is at the main entrance and car parkin
 g is on site\, but you must enter your registration on arrival or you will
  receive a parking fine.
 Stratford Crowne Plaza Hotel is situated in the
  heart of Stratford upon Avon Town Centre and teh disco will be held in th
 e amazing seymor suite.
LOCATION:Bridge Foot\, Stratford-upon-Avon\, CV37 6YR
DTSTART:20251029T190000Z
DTEND:20251029T210000Z
DTSTAMP:20260425T115453Z
ORGANIZER;CN=ILEAP Charity:MAILTO:sparkle@ileap.co.uk
GEO:52.19364;-1.700649
X-APPLE-STRUCTURED-LOCATION;VALUE=URI;X-ADDRESS=Bridge Foot\, Stratford-upo
 n-Avon\, CV37 6YR;X-APPLE-RADIUS=72;X-TITLE=Crowne Plaza:52.19364;-1.70064
 9
END:VEVENT
END:VCALENDAR