BEGIN:VCALENDAR
VERSION:2.0
PRODID:Events Booking
BEGIN:VEVENT
UID:69e945057b4fe
SUMMARY:ILEAP Lets Go  to the Pub\, 1st Wednesday of the month\, 18 years a
 nd over\, 
DESCRIPTION:
LOCATION:64 Hardwick Field Ln\, Warwick CV34 6LN\, UK
DTSTART:20190501T173000Z
DTEND:20190501T193000Z
DTSTAMP:20260422T230037Z
ORGANIZER;CN=ILEAP Charity:MAILTO:sparkle@ileap.co.uk
GEO:52.268664;-1.607719
X-APPLE-STRUCTURED-LOCATION;VALUE=URI;X-ADDRESS=64 Hardwick Field Ln\, Warw
 ick CV34 6LN\, UK;X-APPLE-RADIUS=72;X-TITLE=The Unicorn:52.268664;-1.60771
 9
END:VEVENT
END:VCALENDAR