BEGIN:VCALENDAR
VERSION:2.0
PRODID:Events Booking
BEGIN:VEVENT
UID:69e9ae911f6b8
SUMMARY:ILEAP Lets Go  to the Pub\, 1st Wednesday of the month\, 18 years a
 nd over\, 
DESCRIPTION:
LOCATION:34 Stratford Rd\, Warwick CV34 6AS\, UK
DTSTART:20191002T173000Z
DTEND:20191002T193000Z
DTSTAMP:20260423T063057Z
ORGANIZER;CN=ILEAP Charity:MAILTO:sparkle@ileap.co.uk
GEO:52.2752;-1.595763
X-APPLE-STRUCTURED-LOCATION;VALUE=URI;X-ADDRESS=34 Stratford Rd\, Warwick C
 V34 6AS\, UK;X-APPLE-RADIUS=72;X-TITLE=The Racehorse:52.2752;-1.595763
END:VEVENT
END:VCALENDAR