BEGIN:VCALENDAR
VERSION:2.0
PRODID:Events Booking
BEGIN:VEVENT
UID:69e96b37b0e24
SUMMARY:ILEAP Lets Go  to the Pub\, 1st Wednesday of the month\, 18 years a
 nd over\, 
DESCRIPTION:
LOCATION:Rose & Crown\, 15 Sheep St\, Stratford-upon-Avon CV37 6EF\, UK
DTSTART:20190703T173000Z
DTEND:20190703T193000Z
DTSTAMP:20260423T014335Z
ORGANIZER;CN=ILEAP Charity:MAILTO:sparkle@ileap.co.uk
GEO:52.191376;-1.705442
X-APPLE-STRUCTURED-LOCATION;VALUE=URI;X-ADDRESS=Rose & Crown\, 15 Sheep St\
 , Stratford-upon-Avon CV37 6EF\, UK;X-APPLE-RADIUS=72;X-TITLE=The Rose & C
 rown:52.191376;-1.705442
END:VEVENT
END:VCALENDAR