BEGIN:VCALENDAR
VERSION:2.0
PRODID:Events Booking
BEGIN:VEVENT
UID:69e98643033fb
SUMMARY:ILEAP Lets Go  to the Pub\, 1st Wednesday of the month\, 18 years a
 nd over\, 
DESCRIPTION:
LOCATION:168 Warwick Road\, Kenilworth\, CV81HS
DTSTART:20190807T173000Z
DTEND:20190807T193000Z
DTSTAMP:20260423T033859Z
ORGANIZER;CN=ILEAP Charity:MAILTO:sparkle@ileap.co.uk
GEO:52.337577;-1.57409
X-APPLE-STRUCTURED-LOCATION;VALUE=URI;X-ADDRESS=168 Warwick Road\, Kenilwor
 th\, CV81HS;X-APPLE-RADIUS=72;X-TITLE=The Green Man Kenilworth:52.337577;-
 1.57409
END:VEVENT
END:VCALENDAR