BEGIN:VCALENDAR
VERSION:2.0
PRODID:Events Booking
BEGIN:VEVENT
UID:69e8ebe4dcc45
SUMMARY:Christmas Fun & Frolics at Hatton Country World<br>Meet Santa at 12
 noon<br>8+ yrs 
DESCRIPTION:Includes entrance and santa visit
LOCATION:Dark Lane\, Hatton\,  CV35 8XA
DTSTART:20181223T110000Z
DTEND:20181223T150000Z
DTSTAMP:20260422T164020Z
ORGANIZER;CN=ILEAP Charity:MAILTO:sparkle@ileap.co.uk
GEO:52.293584;-1.655767
X-APPLE-STRUCTURED-LOCATION;VALUE=URI;X-ADDRESS=Dark Lane\, Hatton\,  CV35 
 8XA;X-APPLE-RADIUS=72;X-TITLE=Hatton Adventure World:52.293584;-1.655767
END:VEVENT
END:VCALENDAR