BEGIN:VCALENDAR
VERSION:2.0
PRODID:Events Booking
BEGIN:VEVENT
UID:69e8eda0c8e2b
SUMMARY:ILEAP Midweek Meal<br>Joint Christmas Meal<br>16+ yrs
DESCRIPTION:
LOCATION:Warwick Rd\, Wellesbourne\, Warwick CV35 9LX\, UK
DTSTART:20181212T183000Z
DTEND:20181212T210000Z
DTSTAMP:20260422T164744Z
ORGANIZER;CN=ILEAP Charity:MAILTO:sparkle@ileap.co.uk
GEO:52.198516;-1.595582
X-APPLE-STRUCTURED-LOCATION;VALUE=URI;X-ADDRESS=Warwick Rd\, Wellesbourne\,
  Warwick CV35 9LX\, UK;X-APPLE-RADIUS=72;X-TITLE=The Kings Head (Wellesbou
 rne):52.198516;-1.595582
END:VEVENT
END:VCALENDAR