BEGIN:VCALENDAR
VERSION:2.0
PRODID:Events Booking
BEGIN:VEVENT
UID:69e9b5f3298a7
SUMMARY:ILEAP Midweek Meal in Stratford\, 16 years and over\, 
DESCRIPTION:
LOCATION:Shottery\, Stratford-upon-Avon CV37 9HD\, UK
DTSTART:20191016T173000Z
DTEND:20191016T200000Z
DTSTAMP:20260423T070227Z
ORGANIZER;CN=ILEAP Charity:MAILTO:sparkle@ileap.co.uk
GEO:52.190282;-1.728501
X-APPLE-STRUCTURED-LOCATION;VALUE=URI;X-ADDRESS=Shottery\, Stratford-upon-A
 von CV37 9HD\, UK;X-APPLE-RADIUS=72;X-TITLE=The Bell Inn:52.190282;-1.7285
 01
END:VEVENT
END:VCALENDAR