BEGIN:VCALENDAR
VERSION:2.0
PRODID:Events Booking
BEGIN:VEVENT
UID:69e9a3dd0ea6f
SUMMARY:ILEAP Midweek Meal in Stratford\, 16 years and over\, 
DESCRIPTION:
LOCATION:The Maybird Retail Park\, Birmingham Rd\, Stratford-upon-Avon CV37
  0HZ\, UK
DTSTART:20190918T173000Z
DTEND:20190918T200000Z
DTSTAMP:20260423T054517Z
ORGANIZER;CN=ILEAP Charity:MAILTO:sparkle@ileap.co.uk
GEO:52.200109;-1.712364
X-APPLE-STRUCTURED-LOCATION;VALUE=URI;X-ADDRESS=The Maybird Retail Park\, B
 irmingham Rd\, Stratford-upon-Avon CV37 0HZ\, UK;X-APPLE-RADIUS=72;X-TITLE
 =Pizza Hut (SoA):52.200109;-1.712364
END:VEVENT
END:VCALENDAR