BEGIN:VCALENDAR
VERSION:2.0
PRODID:Events Booking
BEGIN:VEVENT
UID:69e9d40c9081b
SUMMARY:ILEAP Midweek Meal in Stratford\, 16 years and over\, 
DESCRIPTION:
LOCATION:41-42 Sheep St\, Stratford-upon-Avon CV37 6EE\, UK
DTSTART:20191120T183000Z
DTEND:20191120T210000Z
DTSTAMP:20260423T091052Z
ORGANIZER;CN=ILEAP Charity:MAILTO:sparkle@ileap.co.uk
GEO:52.191628;-1.705858
X-APPLE-STRUCTURED-LOCATION;VALUE=URI;X-ADDRESS=41-42 Sheep St\, Stratford-
 upon-Avon CV37 6EE\, UK;X-APPLE-RADIUS=72;X-TITLE=The Golden Bee:52.191628
 ;-1.705858
END:VEVENT
END:VCALENDAR