BEGIN:VCALENDAR
VERSION:2.0
PRODID:Events Booking
BEGIN:VEVENT
UID:69e8c52f142c7
SUMMARY:ILEAP Midweek Meal in Stratford<br>16+ yrs
DESCRIPTION:
LOCATION:41-42 Sheep St\, Stratford-upon-Avon CV37 6EE\, UK
DTSTART:20181031T183000Z
DTEND:20181031T210000Z
DTSTAMP:20260422T135511Z
ORGANIZER;CN=ILEAP Charity:MAILTO:sparkle@ileap.co.uk
GEO:52.191628;-1.705858
X-APPLE-STRUCTURED-LOCATION;VALUE=URI;X-ADDRESS=41-42 Sheep St\, Stratford-
 upon-Avon CV37 6EE\, UK;X-APPLE-RADIUS=72;X-TITLE=The Golden Bee:52.191628
 ;-1.705858
END:VEVENT
END:VCALENDAR