BEGIN:VCALENDAR
VERSION:2.0
PRODID:Events Booking
BEGIN:VEVENT
UID:69e8b0e83de02
SUMMARY:ILEAP Midweek Meal<br>in Warwick / Leamington or Kenilworth<br>16+ 
 yrs
DESCRIPTION:
LOCATION:Poseidon Way\, Royal Leamington Spa\, Warwick CV34 6SW\, UK
DTSTART:20180926T173000Z
DTEND:20180926T200000Z
DTSTAMP:20260422T122840Z
ORGANIZER;CN=ILEAP Charity:MAILTO:sparkle@ileap.co.uk
GEO:52.269168;-1.537174
X-APPLE-STRUCTURED-LOCATION;VALUE=URI;X-ADDRESS=Poseidon Way\, Royal Leamin
 gton Spa\, Warwick CV34 6SW\, UK;X-APPLE-RADIUS=72;X-TITLE=The Hungry Hors
 e:52.269168;-1.537174
END:VEVENT
END:VCALENDAR