BEGIN:VCALENDAR
VERSION:2.0
PRODID:Events Booking
BEGIN:VEVENT
UID:69e9a4f18f924
SUMMARY:ILEAP Midweek Meal in Warwick / Leamington or Kenilworth<br>16 year
 s and over 
DESCRIPTION:
LOCATION:Poseidon Way\, Royal Leamington Spa\, Warwick CV34 6SW\, UK
DTSTART:20190918T173000Z
DTEND:20190918T200000Z
DTSTAMP:20260423T054953Z
ORGANIZER;CN=ILEAP Charity:MAILTO:sparkle@ileap.co.uk
GEO:52.269168;-1.537174
X-APPLE-STRUCTURED-LOCATION;VALUE=URI;X-ADDRESS=Poseidon Way\, Royal Leamin
 gton Spa\, Warwick CV34 6SW\, UK;X-APPLE-RADIUS=72;X-TITLE=The Hungry Hors
 e:52.269168;-1.537174
END:VEVENT
END:VCALENDAR