BEGIN:VCALENDAR
VERSION:2.0
PRODID:Events Booking
BEGIN:VEVENT
UID:69e9b6678b20e
SUMMARY:ILEAP Midweek Meal in Warwick / Leamington or Kenilworth<br>16 year
 s and over 
DESCRIPTION:
LOCATION:168 Warwick Road\, Kenilworth\, CV81HS
DTSTART:20191016T173000Z
DTEND:20191016T200000Z
DTSTAMP:20260423T070423Z
ORGANIZER;CN=ILEAP Charity:MAILTO:sparkle@ileap.co.uk
GEO:52.337577;-1.57409
X-APPLE-STRUCTURED-LOCATION;VALUE=URI;X-ADDRESS=168 Warwick Road\, Kenilwor
 th\, CV81HS;X-APPLE-RADIUS=72;X-TITLE=The Green Man Kenilworth:52.337577;-
 1.57409
END:VEVENT
END:VCALENDAR