BEGIN:VCALENDAR
VERSION:2.0
PRODID:Events Booking
BEGIN:VEVENT
UID:69e922fd7377b
SUMMARY:ILEAP Midweek Meal in Warwick / Leamington or Kenilworth<br>16 year
 s and over
DESCRIPTION:
LOCATION:Stratford Road Warwick\, CV34 6SW 
DTSTART:20190320T183000Z
DTEND:20190320T210000Z
DTSTAMP:20260422T203525Z
ORGANIZER;CN=ILEAP Charity:MAILTO:sparkle@ileap.co.uk
GEO:52.269168;-1.537174
X-APPLE-STRUCTURED-LOCATION;VALUE=URI;X-ADDRESS=Stratford Road Warwick\, CV
 34 6SW ;X-APPLE-RADIUS=72;X-TITLE=The Harvester:52.269168;-1.537174
END:VEVENT
END:VCALENDAR