BEGIN:VCALENDAR
VERSION:2.0
PRODID:Events Booking
BEGIN:VEVENT
UID:69e992e396201
SUMMARY:ILEAP Midweek Meal in Warwick / Leamington or Kenilworth<br>16 year
 s and over 
DESCRIPTION:
LOCATION:64 Hardwick Field Ln\, Warwick CV34 6LN\, UK
DTSTART:20190821T173000Z
DTEND:20190821T200000Z
DTSTAMP:20260423T043251Z
ORGANIZER;CN=ILEAP Charity:MAILTO:sparkle@ileap.co.uk
GEO:52.268664;-1.607719
X-APPLE-STRUCTURED-LOCATION;VALUE=URI;X-ADDRESS=64 Hardwick Field Ln\, Warw
 ick CV34 6LN\, UK;X-APPLE-RADIUS=72;X-TITLE=The Unicorn:52.268664;-1.60771
 9
END:VEVENT
END:VCALENDAR