BEGIN:VCALENDAR
VERSION:2.0
PRODID:Events Booking
BEGIN:VEVENT
UID:69e7344a5f607
SUMMARY:ILEAP Midweek Movers & Groovers<br>8+ yrs  (3)
DESCRIPTION:Dance and Move to some Funky Grooves&nbsp\;
 We will have a da
 nce video on the big screen and will take it in turns to lead the moves.
LOCATION:Abbey End Car Park\, Abbey End\, Kenilworth CV8 1JP
DTSTART:20180808T100000Z
DTEND:20180808T120000Z
DTSTAMP:20260421T092442Z
ORGANIZER;CN=ILEAP Charity:MAILTO:sparkle@ileap.co.uk
GEO:52.344216;-1.578651
X-APPLE-STRUCTURED-LOCATION;VALUE=URI;X-ADDRESS=Abbey End Car Park\, Abbey 
 End\, Kenilworth CV8 1JP;X-APPLE-RADIUS=72;X-TITLE=The Kenilworth Centre:5
 2.344216;-1.578651
END:VEVENT
END:VCALENDAR