BEGIN:VCALENDAR
VERSION:2.0
PRODID:Events Booking
BEGIN:VEVENT
UID:69ecc825e133d
SUMMARY:ILEAP Monday Night Ten Pin: Autumn Term 2025: 16 years and over
DESCRIPTION:you are booking for the Autumn Term 2025&nbsp\;
 A firm favour
 ite\, Enjoy 2 games of bowling and a meal!&nbsp\;
 We are expecting a ful
 l house so you'll need to book early and your booking for the term.
 Reme
 mber you can donate and or fundraise for the ILEAP Charity at www.justgivi
 ng.com/ileap&nbsp\;
 You can purchase our fantastic Marketability product
 s from our shop or our website www.ileap.co.uk &nbsp\;
LOCATION:Royal Leamington Spa\, Warwick CV34 6RH\, UK
DTSTART:20251006T173000Z
DTEND:20251006T193000Z
DTSTAMP:20211028T085807Z
ORGANIZER;CN=ILEAP Charity:MAILTO:sparkle@ileap.co.uk
GEO:52.279158;-1.545272
X-APPLE-STRUCTURED-LOCATION;VALUE=URI;X-ADDRESS=Royal Leamington Spa\, Warw
 ick CV34 6RH\, UK;X-APPLE-RADIUS=72;X-TITLE=Ten Pin 10\, Megabowl:52.27915
 8;-1.545272
END:VEVENT
END:VCALENDAR