BEGIN:VCALENDAR
VERSION:2.0
PRODID:Events Booking
BEGIN:VEVENT
UID:69ed2739005c8
SUMMARY:ILEAP (not to) Scary Bingo: Saturday Morning Fun
DESCRIPTION:
DTSTART:20200815T090000Z
DTEND:20200815T100000Z
DTSTAMP:20260425T214233Z
ORGANIZER;CN=ILEAP Charity:MAILTO:sparkle@ileap.co.uk
END:VEVENT
END:VCALENDAR