BEGIN:VCALENDAR
VERSION:2.0
PRODID:Events Booking
BEGIN:VEVENT
UID:69ed3a2397923
SUMMARY:ILEAP (not to) Scary Bingo: Saturday Morning Fun
DESCRIPTION:
DTSTART:20200822T090000Z
DTEND:20200822T100000Z
DTSTAMP:20260425T230315Z
ORGANIZER;CN=ILEAP Charity:MAILTO:sparkle@ileap.co.uk
END:VEVENT
END:VCALENDAR