BEGIN:VCALENDAR
VERSION:2.0
PRODID:Events Booking
BEGIN:VEVENT
UID:69ed4b7354b42
SUMMARY:ILEAP (not to) Scary Bingo: Saturday Morning Fun
DESCRIPTION:
DTSTART:20200905T090000Z
DTEND:20200905T100000Z
DTSTAMP:20260426T001707Z
ORGANIZER;CN=ILEAP Charity:MAILTO:sparkle@ileap.co.uk
END:VEVENT
END:VCALENDAR