BEGIN:VCALENDAR
VERSION:2.0
PRODID:Events Booking
BEGIN:VEVENT
UID:69e995464390f
SUMMARY:ILEAP Morning Movie\, 12 years and over 
DESCRIPTION:
LOCATION:Portland Place\, Leamington Spa CV32 5ET\, UK
DTSTART:20190829T090000Z
DTEND:20190829T113000Z
DTSTAMP:20260423T044302Z
ORGANIZER;CN=ILEAP Charity:MAILTO:sparkle@ileap.co.uk
GEO:52.288839;-1.53832
X-APPLE-STRUCTURED-LOCATION;VALUE=URI;X-ADDRESS=Portland Place\, Leamington
  Spa CV32 5ET\, UK;X-APPLE-RADIUS=72;X-TITLE=Vue Cinema:52.288839;-1.53832
END:VEVENT
END:VCALENDAR