BEGIN:VCALENDAR
VERSION:2.0
PRODID:Events Booking
BEGIN:VEVENT
UID:69e9c385d1c15
SUMMARY:ILEAP Morning Movie\, 12yrs and over
DESCRIPTION:
LOCATION:Portland Place\, Leamington Spa CV32 5ET\, UK
DTSTART:20191029T095500Z
DTEND:20191029T120000Z
DTSTAMP:20260423T080021Z
ORGANIZER;CN=ILEAP Charity:MAILTO:sparkle@ileap.co.uk
GEO:52.288839;-1.53832
X-APPLE-STRUCTURED-LOCATION;VALUE=URI;X-ADDRESS=Portland Place\, Leamington
  Spa CV32 5ET\, UK;X-APPLE-RADIUS=72;X-TITLE=Vue Cinema:52.288839;-1.53832
END:VEVENT
END:VCALENDAR