BEGIN:VCALENDAR
VERSION:2.0
PRODID:Events Booking
BEGIN:VEVENT
UID:69e97f8a35fb2
SUMMARY:ILEAP Morning Movie<br>8+ yrs   
DESCRIPTION:The Lion King
 Price includes Cinema Ticket
 Bring £ for pop
 corn / drinks or bring your own!
 Drop Off and Pick Up Time to be Confirm
 ed.
 Film to be confirmed nearer the Time.
 Why not book for the afterno
 on Canoe / Kayak session and spend the whole day with us!
LOCATION:Portland Place\, Leamington Spa CV32 5ET\, UK
DTSTART:20190725T090000Z
DTEND:20190725T113000Z
DTSTAMP:20260423T031018Z
ORGANIZER;CN=ILEAP Charity:MAILTO:sparkle@ileap.co.uk
GEO:52.288839;-1.53832
X-APPLE-STRUCTURED-LOCATION;VALUE=URI;X-ADDRESS=Portland Place\, Leamington
  Spa CV32 5ET\, UK;X-APPLE-RADIUS=72;X-TITLE=Vue Cinema:52.288839;-1.53832
END:VEVENT
END:VCALENDAR