BEGIN:VCALENDAR
VERSION:2.0
PRODID:Events Booking
BEGIN:VEVENT
UID:69e9367222d04
SUMMARY:ILEAP Morning Movie<br>8+ yrs  
DESCRIPTION:Mary Poppins Returns:
 Screen 2:
 Seats:&nbsp\;AC\, A10\, A11
 \, A12\, A13\, A14\, B10\, B11\, B12\, B13\, B14\, C8\, C9\, C10\, C11\, C
 12\, C13\, C14
 Bring your own snacks and drinks or £ to buy what you li
 ke
LOCATION:Portland Place\, Leamington Spa CV32 5ET\, UK
DTSTART:20190416T090000Z
DTEND:20190416T114000Z
DTSTAMP:20260422T215826Z
ORGANIZER;CN=ILEAP Charity:MAILTO:sparkle@ileap.co.uk
GEO:52.288839;-1.53832
X-APPLE-STRUCTURED-LOCATION;VALUE=URI;X-ADDRESS=Portland Place\, Leamington
  Spa CV32 5ET\, UK;X-APPLE-RADIUS=72;X-TITLE=Vue Cinema:52.288839;-1.53832
END:VEVENT
END:VCALENDAR