BEGIN:VCALENDAR
VERSION:2.0
PRODID:Events Booking
BEGIN:VEVENT
UID:69e9564d6ce81
SUMMARY:ILEAP Morning Movie<br>8+ yrs   (3)
DESCRIPTION:Includes cinema ticket
LOCATION:Portland Place\, Leamington Spa CV32 5ET\, UK
DTSTART:20190528T090000Z
DTEND:20190528T110000Z
DTSTAMP:20260423T001421Z
ORGANIZER;CN=ILEAP Charity:MAILTO:sparkle@ileap.co.uk
GEO:52.288839;-1.53832
X-APPLE-STRUCTURED-LOCATION;VALUE=URI;X-ADDRESS=Portland Place\, Leamington
  Spa CV32 5ET\, UK;X-APPLE-RADIUS=72;X-TITLE=Vue Cinema:52.288839;-1.53832
END:VEVENT
END:VCALENDAR