BEGIN:VCALENDAR
VERSION:2.0
PRODID:Events Booking
BEGIN:VEVENT
UID:69e8c3ca089f6
SUMMARY:ILEAP Morning Movie<br>8+ yrs
DESCRIPTION:Includes free popcorn
DTSTART:20181031T110000Z
DTEND:20181031T130000Z
DTSTAMP:20260422T134914Z
ORGANIZER;CN=ILEAP Charity:MAILTO:sparkle@ileap.co.uk
END:VEVENT
END:VCALENDAR