BEGIN:VCALENDAR
VERSION:2.0
PRODID:Events Booking
BEGIN:VEVENT
UID:69ed4bfdde33a
SUMMARY:ILEAP (not so) Scary Bingo: Sunday Morning Fun 
DESCRIPTION:
DTSTART:20200920T090000Z
DTEND:20200920T100000Z
DTSTAMP:20260426T001925Z
ORGANIZER;CN=ILEAP Charity:MAILTO:sparkle@ileap.co.uk
END:VEVENT
END:VCALENDAR