BEGIN:VCALENDAR
VERSION:2.0
PRODID:Events Booking
BEGIN:VEVENT
UID:69e98039e1e3a
SUMMARY:ILEAP One 4 the Boys<br>Lads Club<br>Summer Term<br>FITNESS SUITE\,
  ART & DESIGN\, GYM SESSION<br>12 years and over
DESCRIPTION:
LOCATION:Alcester Rd\, Stratford-upon-Avon\, CV37 9DH\, UK
DTSTART:20190803T113000Z
DTEND:20190803T143000Z
DTSTAMP:20260423T031313Z
ORGANIZER;CN=ILEAP Charity:MAILTO:sparkle@ileap.co.uk
GEO:52.193676;-1.720444
X-APPLE-STRUCTURED-LOCATION;VALUE=URI;X-ADDRESS=Alcester Rd\, Stratford-upo
 n-Avon\, CV37 9DH\, UK;X-APPLE-RADIUS=72;X-TITLE=Stratford–on-Avon High 
 School:52.193676;-1.720444
END:VEVENT
END:VCALENDAR