BEGIN:VCALENDAR
VERSION:2.0
PRODID:Events Booking
BEGIN:VEVENT
UID:69e983aba2b5e
SUMMARY:ILEAP Pamper Club (Ladies Only)<br>Summer Term<br>12 years and over
DESCRIPTION:There is no morning Cookery today as there is an event on at KE
 S.
LOCATION:Tyler St\, Stratford-upon-Avon CV37 6TY\, UK
DTSTART:20190803T113000Z
DTEND:20190803T143000Z
DTSTAMP:20260423T032755Z
ORGANIZER;CN=ILEAP Charity:MAILTO:sparkle@ileap.co.uk
GEO:52.194439;-1.706573
X-APPLE-STRUCTURED-LOCATION;VALUE=URI;X-ADDRESS=Tyler St\, Stratford-upon-A
 von CV37 6TY\, UK;X-APPLE-RADIUS=72;X-TITLE=Tyler House:52.194439;-1.70657
 3
END:VEVENT
END:VCALENDAR