BEGIN:VCALENDAR
VERSION:2.0
PRODID:Events Booking
BEGIN:VEVENT
UID:69e902e7c327d
SUMMARY:ILEAP Pamper Club (Ladies Only)<br>Spring Term<br>12 years and over
DESCRIPTION:
LOCATION:Church St\, Stratford-upon-Avon CV37 6BE
DTSTART:20190112T120000Z
DTEND:20190112T150000Z
DTSTAMP:20260422T181831Z
ORGANIZER;CN=ILEAP Charity:MAILTO:sparkle@ileap.co.uk
GEO:52.190487;-1.706817
X-APPLE-STRUCTURED-LOCATION;VALUE=URI;X-ADDRESS=Church St\, Stratford-upon-
 Avon CV37 6BE;X-APPLE-RADIUS=72;X-TITLE=King Edward School:52.190487;-1.70
 6817
END:VEVENT
END:VCALENDAR