BEGIN:VCALENDAR
VERSION:2.0
PRODID:Events Booking
BEGIN:VEVENT
UID:69e9359d9905f
SUMMARY:ILEAP Pamper Club (Ladies Only)<br>Spring Term<br>12 years and over
DESCRIPTION:If you have been to the morning cookery club at KES\, we will w
 alk down to Tyler House together\, please pick up from Tyler House\, Tyler
  Street\, Stratford-upon-Avon. Thank you
LOCATION:Tyler St\, Stratford-upon-Avon CV37 6TY\, UK
DTSTART:20190406T113000Z
DTEND:20190406T143000Z
DTSTAMP:20260422T215453Z
ORGANIZER;CN=ILEAP Charity:MAILTO:sparkle@ileap.co.uk
GEO:52.194439;-1.706573
X-APPLE-STRUCTURED-LOCATION;VALUE=URI;X-ADDRESS=Tyler St\, Stratford-upon-A
 von CV37 6TY\, UK;X-APPLE-RADIUS=72;X-TITLE=Tyler House:52.194439;-1.70657
 3
END:VEVENT
END:VCALENDAR