BEGIN:VCALENDAR
VERSION:2.0
PRODID:Events Booking
BEGIN:VEVENT
UID:69e99286e6022
SUMMARY:ILEAP Park Life at St Nicholas Park for 12yrs and over 
DESCRIPTION:
LOCATION:Banbury Rd\, Warwick\, Warwickshire CV34 4QY
DTSTART:20190827T100000Z
DTEND:20190827T140000Z
DTSTAMP:20260423T043118Z
ORGANIZER;CN=ILEAP Charity:MAILTO:sparkle@ileap.co.uk
GEO:52.281606;-1.580821
X-APPLE-STRUCTURED-LOCATION;VALUE=URI;X-ADDRESS=Banbury Rd\, Warwick\, Warw
 ickshire CV34 4QY;X-APPLE-RADIUS=72;X-TITLE=St Nicholas Park:52.281606;-1.
 580821
END:VEVENT
END:VCALENDAR