BEGIN:VCALENDAR
VERSION:2.0
PRODID:Events Booking
BEGIN:VEVENT
UID:69e992b05529a
SUMMARY:ILEAP Park Life at Stratford Recreation Ground for 12yrs and over
DESCRIPTION:
LOCATION:Stratford-upon-Avon CV37 7PY
DTSTART:20190819T100000Z
DTEND:20190819T140000Z
DTSTAMP:20260423T043200Z
ORGANIZER;CN=ILEAP Charity:MAILTO:sparkle@ileap.co.uk
GEO:52.188711;-1.701877
X-APPLE-STRUCTURED-LOCATION;VALUE=URI;X-ADDRESS=Stratford-upon-Avon CV37 7P
 Y;X-APPLE-RADIUS=72;X-TITLE=Stratford Recreation Ground:52.188711;-1.70187
 7
END:VEVENT
END:VCALENDAR