BEGIN:VCALENDAR
VERSION:2.0
PRODID:Events Booking
BEGIN:VEVENT
UID:69e981b028e5c
SUMMARY:ILEAP Park Life<br>at St Nicholas Park<br>8yrs 
DESCRIPTION:A great day out at a great park
 
 11am -12:&nbsp\;Walk the 1
  mile circuit and work up an appetite!
 12-1: Bring your packed lunch for
  a Picnic with Friends
 1:2pm: Game of Rounders / Park / Crazy Golf
 2:3
 pm Park / Amusements (Included in the price)
 Bring £ for an ice cream

  
 St Nicholas Park\,&nbsp\;Banbury Rd\, Warwick\, Warwickshire CV34 4QY
LOCATION:Banbury Rd\, Warwick\, Warwickshire CV34 4QY
DTSTART:20190813T100000Z
DTEND:20190813T140000Z
DTSTAMP:20260423T031928Z
ORGANIZER;CN=ILEAP Charity:MAILTO:sparkle@ileap.co.uk
GEO:52.281606;-1.580821
X-APPLE-STRUCTURED-LOCATION;VALUE=URI;X-ADDRESS=Banbury Rd\, Warwick\, Warw
 ickshire CV34 4QY;X-APPLE-RADIUS=72;X-TITLE=St Nicholas Park:52.281606;-1.
 580821
END:VEVENT
END:VCALENDAR