BEGIN:VCALENDAR
VERSION:2.0
PRODID:Events Booking
BEGIN:VEVENT
UID:69e73467d56b4
SUMMARY:ILEAP Park Life<br>at St Nicholas Park<br>8yrs
DESCRIPTION:A great day out at a great park
LOCATION:Banbury Rd\, Warwick\, Warwickshire CV34 4QY
DTSTART:20180802T100000Z
DTEND:20180802T140000Z
DTSTAMP:20260421T092511Z
ORGANIZER;CN=ILEAP Charity:MAILTO:sparkle@ileap.co.uk
GEO:52.281606;-1.580821
X-APPLE-STRUCTURED-LOCATION;VALUE=URI;X-ADDRESS=Banbury Rd\, Warwick\, Warw
 ickshire CV34 4QY;X-APPLE-RADIUS=72;X-TITLE=St Nicholas Park:52.281606;-1.
 580821
END:VEVENT
END:VCALENDAR