BEGIN:VCALENDAR
VERSION:2.0
PRODID:Events Booking
BEGIN:VEVENT
UID:69e8c43057932
SUMMARY:ILEAP Pumpkin Pick and Halloween Fun at Hatton<br>8+ yrs
DESCRIPTION:Includes entrance and pumpkin
LOCATION:Dark Lane\, Hatton\,  CV35 8XA
DTSTART:20181029T110000Z
DTEND:20181029T160000Z
DTSTAMP:20260422T135056Z
ORGANIZER;CN=ILEAP Charity:MAILTO:sparkle@ileap.co.uk
GEO:52.293584;-1.655767
X-APPLE-STRUCTURED-LOCATION;VALUE=URI;X-ADDRESS=Dark Lane\, Hatton\,  CV35 
 8XA;X-APPLE-RADIUS=72;X-TITLE=Hatton Adventure World:52.293584;-1.655767
END:VEVENT
END:VCALENDAR